BEGIN:VCALENDAR
VERSION:2.0
PRODID:-//eventon.com NONSGML v1.0//EN
CALSCALE:GREGORIAN
METHOD:PUBLISH
BEGIN:VEVENT
UID:69e5fa48c3fee
DTSTAMP:20260420T100456Z
DTSTART:20240324T110000Z
DTEND:20240324T160000Z
LOCATION:
SUMMARY:Sneaker Sunday
DESCRIPTION:Click here to find out more about this event.\nhttps://heatexch
 ange.com/events/sneak-sunday/
URL:https://heatexchange.com/events/sneak-sunday/
END:VEVENT
END:VCALENDAR